BEGIN:VCALENDAR
VERSION:2.0
PRODID:-//eventon.com NONSGML v1.0//EN
CALSCALE:GREGORIAN
METHOD:PUBLISH
BEGIN:VEVENT
UID:69e515e674909
DTSTAMP:20260419T175030Z
DTSTART:20231207T220000Z
DTEND:20240225T060000Z
LOCATION:La Galerie Rouge 3 Rue Du Pont Louis-Philippe 75004 Paris
SUMMARY:Jean-Michel Fauquet
DESCRIPTION:La Galerie Rouge a le plaisir de présenter Le Voyageur Immobil
 e\,  une exposition personnelle de Jean-Michel Fauquet. L’exposition prop
 ose un voyage intérieur\,  semblable à celui effectué par l’artiste qu
 i ne cesse de construire un monde singulier\,  entre l’imaginaire et le r
 éel\,  dans l’immobilité de son atelier. Le visiteur.euse découvre des
 [..]\nhttps://www.9lives-magazine.com/events/jean-michel-fauquet-le-voyageu
 r-immobile/
URL:https://www.9lives-magazine.com/events/jean-michel-fauquet-le-voyageur-immobile/
END:VEVENT
END:VCALENDAR