BEGIN:VCALENDAR
VERSION:2.0
PRODID:-//eventon.com NONSGML v1.0//EN
CALSCALE:GREGORIAN
METHOD:PUBLISH
BEGIN:VEVENT
UID:69e636fd948af
DTSTAMP:20260420T142357Z
DTSTART:20241006T013000Z
DTEND:20241229T060000Z
LOCATION:Le Bleu du Ciel - Centre de photographie et d&#039;image contemporaine 12\,  rue des fantasques  69001 Lyon
SUMMARY:Ebru Ceylan
DESCRIPTION:Pour moi\,  voyager et photographier en Anatolie est une questi
 on d’existence. Un voyage intérieur dans lequel je recherche des parties
  de moi-même. Un sentiment de carence. Le désir de construire un « monde
  intérieur » à partir de lumières\,  de pierres\,  de formes et d’ima
 ges. Ebru Ceylan Dans ses photographies\, [..]\nhttps://www.9lives-magazine
 .com/events/ebru-ceylan-inner-world/
URL:https://www.9lives-magazine.com/events/ebru-ceylan-inner-world/
END:VEVENT
END:VCALENDAR