BEGIN:VCALENDAR
VERSION:2.0
PRODID:-//eventon.com NONSGML v1.0//EN
CALSCALE:GREGORIAN
METHOD:PUBLISH
BEGIN:VEVENT
UID:69ece4493a67e
DTSTAMP:20260425T155657Z
DTSTART:20240111T213000Z
DTEND:20240312T060000Z
LOCATION:Studio Idan 43 rue Beaubourg 75003 Paris
SUMMARY:Arnaud Baumann
DESCRIPTION:L&rsquo;exposition ICONIC PORTRAITS est une curation rÃ©alisÃ©e
  sur prÃ¨s de 45 ans de carriÃ¨re. Elle offre aux visiteurs une opportunitÃ
 © unique de plonger dans le rÃ©pertoire des cÃ©lÃ©britÃ©s de Baumann\,  imm
 ortalisant les rencontres entre le photographe et des figures emblÃ©matique
 s ayant marquÃ© notre histoire. Lâ€™exposition ICONIC PORTRAITS offre un re
 gard[..]\nhttps://www.9lives-magazine.com/events/arnaud-baumann-iconic-port
 raits/
URL:https://www.9lives-magazine.com/events/arnaud-baumann-iconic-portraits/
END:VEVENT
END:VCALENDAR