BEGIN:VCALENDAR
VERSION:2.0
PRODID:-//eventon.com NONSGML v1.0//EN
CALSCALE:GREGORIAN
METHOD:PUBLISH
BEGIN:VEVENT
UID:69e847d13391e
DTSTAMP:20260422T040017Z
DTSTART:20240119T010000Z
DTEND:20240324T060000Z
LOCATION:in camera galerie 21\,  rue Las Cases 75007 Paris
SUMMARY:Hans van der Meer
DESCRIPTION:Pour sa première exposition à la galerie\,  in camera présen
 te deux séries iconiques du photographe hollandais Hans van der Meer\,  «
  European Fields » et « Minor Mysteries » European Fields « En 1988\,  
 j’ai découvert aux archives Spaarnestad à Haarlem\,  aux Pays-Bas\,  un
 e pile de vieilles photos de football.[..]\nhttps://www.9lives-magazine.com
 /events/hans-van-der-meer/
URL:https://www.9lives-magazine.com/events/hans-van-der-meer/
END:VEVENT
END:VCALENDAR