BEGIN:VCALENDAR
VERSION:2.0
PRODID:-//eventon.com NONSGML v1.0//EN
CALSCALE:GREGORIAN
METHOD:PUBLISH
BEGIN:VEVENT
UID:69eca9fd27fb9
DTSTAMP:20260425T114813Z
DTSTART:20240429T000000Z
DTEND:20240722T050000Z
LOCATION:CPIF - Centre Photographique d&#039;Ile-de-France 107 Avenue de la République\,  77340 Pontault-Combault
SUMMARY:François Bellabas
DESCRIPTION:Outil d’appréhension du réel et de création\,  la machi
 ne est convoquée par François Bellabas pour mener une réflexion autou
 r des mécanismes d’appropriation et de renouvellement d’une culture v
 isuelle commune. À partir de sa vaste base de données photographiques\,
   l’artiste utilise la technologie de synthèse d&rsquo;images et l&rsqu
 o;intelligence artificielle pour créer[..]\nhttps://www.9lives-magazine.c
 om/events/francois-bellabas-blank-memory/
URL:https://www.9lives-magazine.com/events/francois-bellabas-blank-memory/
END:VEVENT
END:VCALENDAR