BEGIN:VCALENDAR
VERSION:2.0
PRODID:-//eventon.com NONSGML v1.0//EN
CALSCALE:GREGORIAN
METHOD:PUBLISH
BEGIN:VEVENT
UID:69e7910f07ca2
DTSTAMP:20260421T150031Z
DTSTART:20240113T230000Z
DTEND:20240303T060000Z
LOCATION:box galerie 102 chaussée de Vleurgat 1050 Bruxelles
SUMMARY:Michael Ackerman
DESCRIPTION:Qu’il déambule à Bénarès\,  à New York\,  à Atlanta ou 
 ailleurs\,  Michael Ackerman s’affranchit de tout lieu commun pour s’en
 gager dans une relation viscérale avec les lieux comme avec les êtres. Se
  déprenant de toute adhérence à la réalité\,  affranchies de toute ane
 cdote\,  ses images fébriles s’imposent et fascinent comme[..]\nhttps://
 www.9lives-magazine.com/events/michael-ackerman-lightness-darkness-and-some
 -smoke/
URL:https://www.9lives-magazine.com/events/michael-ackerman-lightness-darkness-and-some-smoke/
END:VEVENT
END:VCALENDAR