BEGIN:VCALENDAR
VERSION:2.0
PRODID:-//eventon.com NONSGML v1.0//EN
CALSCALE:GREGORIAN
METHOD:PUBLISH
BEGIN:VEVENT
UID:69e7a4009cd35
DTSTAMP:20260421T162120Z
DTSTART:20240113T013000Z
DTEND:20240311T060000Z
LOCATION:L&#039;Enfant Sauvage 23 Rue de l'Enseignement - 1000 Bruxelles
SUMMARY:Michael Ackerman
DESCRIPTION:L&rsquo;Enfant Sauvage est heureux de présenter SMOKE\,  ayant
  fait l’objet du plus récent livre de Michael Ackerman\,  publié par le
 s éditions de L’Axolotl. SMOKE est un hommage à Benjamin\,  chanteur\, 
  poète et figure de l’underground américain\,  et à Cabbageton\,  un q
 uartier défavorisé d’Atlanta. Cette exposition associe des photographie
 s de Michael[..]\nhttps://www.9lives-magazine.com/events/michael-ackerman-s
 moke/
URL:https://www.9lives-magazine.com/events/michael-ackerman-smoke/
END:VEVENT
END:VCALENDAR