BEGIN:VCALENDAR
VERSION:2.0
PRODID:-//eventon.com NONSGML v1.0//EN
CALSCALE:GREGORIAN
METHOD:PUBLISH
BEGIN:VEVENT
UID:69e77c526be56
DTSTAMP:20260421T133202Z
DTSTART:20231201T220000Z
DTEND:20240121T060000Z
LOCATION:Galerie Suzanne Tarasieve 7\,  rue Pastourelle 75003 Paris
SUMMARY:Juergen Teller
DESCRIPTION:Après la série We are Building our Future Together\,  présen
 tée en 2021\,  la Galerie Suzanne Tarasieve est heureuse d’exposer la to
 ute dernière série de Juergen Teller\,  The Myth. Les 92 diptyques\,  mon
 trés comme un plan-séquence\,  s’approprient la croyance populaire selo
 n laquelle lever les jambes en l’air favoriserait les chances de[..]\nhtt
 ps://www.9lives-magazine.com/events/juergen-teller-the-myth/
URL:https://www.9lives-magazine.com/events/juergen-teller-the-myth/
END:VEVENT
END:VCALENDAR