BEGIN:VCALENDAR
VERSION:2.0
PRODID:-//eventon.com NONSGML v1.0//EN
CALSCALE:GREGORIAN
METHOD:PUBLISH
BEGIN:VEVENT
UID:69e4fd99e701b
DTSTAMP:20260419T160649Z
DTSTART:20240127T220000Z
DTEND:20240225T060000Z
LOCATION:Galerie Polaris - Bernard Utudjian 15 rue des Arquebusiers 75003 Paris
SUMMARY:Ruddy Roye
DESCRIPTION:Ruddy Roye est un photographe basé à Brooklyn\,  né à Monte
 go Bay\,  en Jamaïque. Il utilise son appareil photo comme un outil qui lu
 i permet de documenter le monde qui l’entoure. De New-York à la Nouvelle
  Orléans\,  de la Jamaïque à Cleveland\,  ses photographies nous parlent
  de la condition humaine\, [..]\nhttps://www.9lives-magazine.com/events/rud
 dy-roye-when-living-is-a-protest/
URL:https://www.9lives-magazine.com/events/ruddy-roye-when-living-is-a-protest/
END:VEVENT
END:VCALENDAR