BEGIN:VCALENDAR
VERSION:2.0
PRODID:-//eventon.com NONSGML v1.0//EN
CALSCALE:GREGORIAN
METHOD:PUBLISH
BEGIN:VEVENT
UID:69e6132ca517d
DTSTAMP:20260420T115108Z
DTSTART:20240406T003000Z
DTEND:20240526T053000Z
LOCATION:Villa Pérochon 64 rue Paul-François Proust BP 59135 – 79061 Niort CEDEX 9
SUMMARY:Rencontres de la jeune photographie internationale de Niort 2024
DESCRIPTION:Cela fait 30 années que nous explorons la photographie émer
 gente en invitant\,  tous les ans\,  en résidence de création de jeunes
  artistes internationaux venant de tous les horizons artistiques photograph
 iques et culturels. Gardant l’esprit des Rencontres de la jeune photograp
 hie internationale nous avons lancé\,  au cours de l’été 2023\,  un
 [..]\nhttps://www.9lives-magazine.com/events/rencontres-de-la-jeune-photogr
 aphie-internationale-de-niort-2024/
URL:https://www.9lives-magazine.com/events/rencontres-de-la-jeune-photographie-internationale-de-niort-2024/
END:VEVENT
END:VCALENDAR