BEGIN:VCALENDAR
VERSION:2.0
PRODID:-//eventon.com NONSGML v1.0//EN
CALSCALE:GREGORIAN
METHOD:PUBLISH
BEGIN:VEVENT
UID:69eb9bb5becae
DTSTAMP:20260424T163501Z
DTSTART:20240229T230000Z
DTEND:20240407T060000Z
LOCATION:Galerie Esther Woerdehoff 36 rue Falguière\,  75015 Paris
SUMMARY:Chema Madoz
DESCRIPTION:«Les objets ont le même caractère que les mots quand on les 
 place les uns à côté des autres: ils se contaminent et les signification
 s changent. Je profite de ces circonstances.” Chema Madoz est né Jose Ma
 ria Rodriguez Madoz à Madrid\,  Espagne\,  en 1958. Il a étudié l’hist
 oire de l’art[..]\nhttps://www.9lives-magazine.com/events/chema-madoz/
URL:https://www.9lives-magazine.com/events/chema-madoz/
END:VEVENT
END:VCALENDAR