BEGIN:VCALENDAR
VERSION:2.0
PRODID:-//eventon.com NONSGML v1.0//EN
CALSCALE:GREGORIAN
METHOD:PUBLISH
BEGIN:VEVENT
UID:69e847b755b0a
DTSTAMP:20260422T035951Z
DTSTART:20240329T010000Z
DTEND:20240519T060000Z
LOCATION:in camera galerie 21\,  rue Las Cases 75007 Paris
SUMMARY:Mark Steinmetz
DESCRIPTION:Mark Steinmetz est un photographe amÃ©ricain\,  nÃ© en 1961 Ã  
 New-York. Il rÃ©side actuellement Ã  Athens\,  en GÃ©orgie. Il est diplÃ´mÃ
 © en photographie de lâ€™UniversitÃ© de Yale en 1986. Travaillant principal
 ement par sÃ©ries\,  ses photographies en noir et blanc Ã©voquent une variÃ
 ©tÃ© de sujets\,  depuis lâ€™innocence des enfants et des[..]\nhttps://www.
 9lives-magazine.com/events/mark-steinmetz/
URL:https://www.9lives-magazine.com/events/mark-steinmetz/
END:VEVENT
END:VCALENDAR