BEGIN:VCALENDAR
VERSION:2.0
PRODID:-//eventon.com NONSGML v1.0//EN
CALSCALE:GREGORIAN
METHOD:PUBLISH
BEGIN:VEVENT
UID:69e65b5c98174
DTSTAMP:20260420T165908Z
DTSTART:20240501T143000Z
DTEND:20240520T190000Z
LOCATION:
SUMMARY:Itinérances foto Sète
DESCRIPTION:Pour sa seconde édition\,  le parcours Itinérances Foto (IF)\
 ,  créé par l&rsquo;association Itinérances dont la vocation est de sout
 enir la création\,  rassemble du 1er au 20 mai à Sète près de 20 lieux 
 (galeries\,  ateliers\,  espaces publics\, &#8230;)\,  27 artistes photogra
 phes et une série de rendez-vous\,  évènements et rencontres. Animé d&r
 squo;un[..]\nhttps://www.9lives-magazine.com/events/itinerances-foto-sete/
URL:https://www.9lives-magazine.com/events/itinerances-foto-sete/
END:VEVENT
END:VCALENDAR