BEGIN:VCALENDAR
VERSION:2.0
PRODID:-//eventon.com NONSGML v1.0//EN
CALSCALE:GREGORIAN
METHOD:PUBLISH
BEGIN:VEVENT
UID:69e8dcd73fb91
DTSTAMP:20260422T143607Z
DTSTART:20240615T010000Z
DTEND:20241011T050000Z
LOCATION:Jeu de Paume - Château de Tours 25\,  avenue André Malraux 37000 Tours
SUMMARY:Gerda Paliušytė
DESCRIPTION:Dans le cadre de la Saison de la Lituanie en France 2024\,  le 
 Jeu de Paume présente une exposition consacrée à l’artiste lituanienne
  Gerda Paliušytė au Château de Tours du 14 juin au 10 novembre 2024. Dan
 s son travail\,  Gerda Paliušytė (née en 1987) s’intéresse à diverse
 s pratiques documentaires\,  aux[..]\nhttps://www.9lives-magazine.com/event
 s/gerda-paliusyte-tu-me-regardes/
URL:https://www.9lives-magazine.com/events/gerda-paliusyte-tu-me-regardes/
END:VEVENT
END:VCALENDAR