BEGIN:VCALENDAR
VERSION:2.0
PRODID:-//eventon.com NONSGML v1.0//EN
CALSCALE:GREGORIAN
METHOD:PUBLISH
BEGIN:VEVENT
UID:69ea983de17e9
DTSTAMP:20260423T220757Z
DTSTART:20240601T013000Z
DTEND:20240616T063000Z
LOCATION:Galerie Signatures 70\,  rue Jean-Pierre Timbaud\,  75011 Paris
SUMMARY:Arno Brignon
DESCRIPTION:La galerie Signatures présente « Us »\,  une exposition d&
 rsquo;Arno Brignon du 31 mai au 15 juin 2024. « Us » est un périple fa
 milial réalisé entre 2018 et 2022 à travers les douze villes éponymes d
 es capitales historiques européennes\,  nichées au cœur de l’Amérique
 . Ce road trip symbolique cherche à décrypter une société[..]\nhttps://
 www.9lives-magazine.com/events/arno-brignon-us-2/
URL:https://www.9lives-magazine.com/events/arno-brignon-us-2/
END:VEVENT
END:VCALENDAR