BEGIN:VCALENDAR
VERSION:2.0
PRODID:-//eventon.com NONSGML v1.0//EN
CALSCALE:GREGORIAN
METHOD:PUBLISH
BEGIN:VEVENT
UID:69e60c4c5d152
DTSTAMP:20260420T112148Z
DTSTART:20240622T210000Z
DTEND:20240923T050000Z
LOCATION:Moulin Blanchard 11 Rue de Courboyer 61340 Perche-en-Nocé
SUMMARY:Elsa & Johanna
DESCRIPTION:Photo : © Elsa &#038; Johanna\,  Courtesy Galerie La Forest Di
 vonne Elsa et Johanna ont découvert le Perche lors de leur résidence caps
 ule au Moulin Blanchard en 2023. Les résidences capsules sont un programme
  de production artistique mis en place par le Ministère de la Culture en c
 ollaboration des structures[..]\nhttps://www.9lives-magazine.com/events/els
 a-johanna-sequences/
URL:https://www.9lives-magazine.com/events/elsa-johanna-sequences/
END:VEVENT
END:VCALENDAR