BEGIN:VCALENDAR
VERSION:2.0
PRODID:-//eventon.com NONSGML v1.0//EN
CALSCALE:GREGORIAN
METHOD:PUBLISH
BEGIN:VEVENT
UID:69e795d02c2c1
DTSTAMP:20260421T152048Z
DTSTART:20241030T210000Z
DTEND:20241124T060000Z
LOCATION:
SUMMARY:PhotoSaintGermain 2024
DESCRIPTION:Photo : © Karla Vinter-Koch Organisé au cœur de Paris\,  da
 ns le quartier emblématique de Saint-Germain-des-Prés\,  PhotoSaintGerm
 ain\,  dirigé par Aurélia Marcadier. est un festival annuel destiné a
 ̀ promouvoir la création photographique. PhotoSaintGermain propose un pa
 rcours gratuit et libre d’accès d’expositions dans une sélection de
  musées\,  centres culturels\,  galeries et librairies[..]\nhttps://www.9
 lives-magazine.com/events/photosaintgermain-2024/
URL:https://www.9lives-magazine.com/events/photosaintgermain-2024/
END:VEVENT
END:VCALENDAR