BEGIN:VCALENDAR
VERSION:2.0
PRODID:-//eventon.com NONSGML v1.0//EN
CALSCALE:GREGORIAN
METHOD:PUBLISH
BEGIN:VEVENT
UID:69eb975b495e3
DTSTAMP:20260424T161627Z
DTSTART:20250117T230000Z
DTEND:20250519T060000Z
LOCATION:LE BAL 6\,  Impasse de la défense 75018 Paris
SUMMARY:Laia Abril
DESCRIPTION:Photo : Laia Abril\,  MASS BIRTHDAY\,  Mind Series (Case 1\,  M
 exico\,  On Mass Hysteria)\,  2023 Courtesy Galerie Les filles du calvaire\
 ,  Paris © Laia Abril LE BAL invite l’artiste-chercheuse catalane Laia A
 bril (Barcelone\,  1986) à présenter le dernier volet de son travail au l
 ong cours consacré à l’histoire de la[..]\nhttps://www.9lives-magazine.
 com/events/laia-abril-on-mass-hysteria-une-histoire-de-la-misogynie/
URL:https://www.9lives-magazine.com/events/laia-abril-on-mass-hysteria-une-histoire-de-la-misogynie/
END:VEVENT
END:VCALENDAR