BEGIN:VCALENDAR
VERSION:2.0
PRODID:-//eventon.com NONSGML v1.0//EN
CALSCALE:GREGORIAN
METHOD:PUBLISH
BEGIN:VEVENT
UID:69e79bb6aa36f
DTSTAMP:20260421T154558Z
DTSTART:20250409T210000Z
DTEND:20250825T050000Z
LOCATION:Musée Carnavalet - Histoire de Paris 23 Rue de Sévigné\,  75003 Paris
SUMMARY:Le Paris d’Agnès Varda\,  de-ci\,  de-là
DESCRIPTION:Photo : Agnès Varda\,  Autoportrait dans son studio rue Daguer
 re\,  Paris 14e\,  1956 © Succession Agnès Varda L’exposition Le Paris 
 d’Agnès Varda\,  de-ci\,  de-là aborde l’œuvre d’Agnès Varda (192
 8-2019) sous un angle inédit. Elle met en valeur l’œuvre photographique
  encore méconnue de l’artiste et révèle la place primordiale de la[..]
 \nhttps://www.9lives-magazine.com/events/le-paris-dagnes-varda-de-ci-de-la/
URL:https://www.9lives-magazine.com/events/le-paris-dagnes-varda-de-ci-de-la/
END:VEVENT
END:VCALENDAR