BEGIN:VCALENDAR
VERSION:2.0
PRODID:-//eventon.com NONSGML v1.0//EN
CALSCALE:GREGORIAN
METHOD:PUBLISH
BEGIN:VEVENT
UID:69e722c330354
DTSTAMP:20260421T070955Z
DTSTART:20250524T213000Z
DTEND:20260105T053000Z
LOCATION:Les Franciscaines 145B\,  avenue de la République 14800 Deauville
SUMMARY:PIERRE & GILLES
DESCRIPTION:Photo : Pierre et Gilles. Autoportrait 78 (Barthélémy Seng et
  Florian Balicco)\,  2014 Photographie imprimée par jet d&rsquo;encre sur 
 toile et peinte\,  106\, 5 × 133\, 5 cm © Pierre et Gilles — Courtesy T
 EMPLON\,  Paris\,  Brussels\,  New York Pour l’été 2025\,  Les Francisc
 aines célèbre l’univers baroque et onirique de Pierre et[..]\nhttps://w
 ww.9lives-magazine.com/events/pierre-gilles-mondes-marins/
URL:https://www.9lives-magazine.com/events/pierre-gilles-mondes-marins/
END:VEVENT
END:VCALENDAR