BEGIN:VCALENDAR
VERSION:2.0
PRODID:-//eventon.com NONSGML v1.0//EN
CALSCALE:GREGORIAN
METHOD:PUBLISH
BEGIN:VEVENT
UID:69ed0cd9d4bc0
DTSTAMP:20260425T185001Z
DTSTART:20250329T013000Z
DTEND:20250526T060000Z
LOCATION:L&#039;Enfant Sauvage 23 Rue de l'Enseignement - 1000 Bruxelles
SUMMARY:Martin Bogren
DESCRIPTION:Cette série est le récit fugace d’un été\,  avec des imag
 es qui figurent comme des apparitions\,  dévorées de lumière et qui semb
 lent au bord de l’effacement et du vertige. A Summer of a Thousand Years 
 de Martin Bogren est de l’ordre du conte\,  aussi intimiste qu’universe
 l\,  alors on pourrait dire[..]\nhttps://www.9lives-magazine.com/events/mar
 tin-bogren-a-summer-of-a-thousand-years/
URL:https://www.9lives-magazine.com/events/martin-bogren-a-summer-of-a-thousand-years/
END:VEVENT
END:VCALENDAR