BEGIN:VCALENDAR
VERSION:2.0
PRODID:-//eventon.com NONSGML v1.0//EN
CALSCALE:GREGORIAN
METHOD:PUBLISH
BEGIN:VEVENT
UID:69e9da17b9552
DTSTAMP:20260423T083639Z
DTSTART:20250201T200000Z
DTEND:20250428T050000Z
LOCATION:Villa Tamaris Avenue de la Grande Maison\,  83500 La Seyne-sur-Mer
SUMMARY:Gérard Uféras
DESCRIPTION:Né à Paris en 1954\,  Gérard Uféras est un photographe fran
 çais. La photographie est pour lui une vocation précoce : dès l’âge d
 e huit ans\,  le jeune garçon utilise les appareils photo que collectionne
  son père. À onze ans\,  accompagné de ses deux meilleurs amis\,  il dé
 cide de découvrir Paris[..]\nhttps://www.9lives-magazine.com/events/gerard
 -uferas-la-grace-et-le-feu/
URL:https://www.9lives-magazine.com/events/gerard-uferas-la-grace-et-le-feu/
END:VEVENT
END:VCALENDAR