BEGIN:VCALENDAR
VERSION:2.0
PRODID:-//eventon.com NONSGML v1.0//EN
CALSCALE:GREGORIAN
METHOD:PUBLISH
BEGIN:VEVENT
UID:69eb7f29776e3
DTSTAMP:20260424T143313Z
DTSTART:20250327T143000Z
DTEND:20250412T193000Z
LOCATION:Galerie Signatures 70\,  rue Jean-Pierre Timbaud\,  75011 Paris
SUMMARY:Une Image — Une Histoire
DESCRIPTION:Photo : © Thierry BORREDON/SIGNATURES La galerie Signatures a 
 le plaisir de vous inviter à une exposition qui réunit une trentaine de p
 hotographes. Les artistes ont été invités à explorer leurs archives pou
 r séléctionner une photographie inédite qui n&rsquo;a jamais été publi
 ée ni exposée mais qui\,  par sa composition ou[..]\nhttps://www.9lives-m
 agazine.com/events/une-image-une-histoire-31-photographes-31-regards-31-oeu
 vres-uniques/
URL:https://www.9lives-magazine.com/events/une-image-une-histoire-31-photographes-31-regards-31-oeuvres-uniques/
END:VEVENT
END:VCALENDAR