BEGIN:VCALENDAR
VERSION:2.0
PRODID:-//eventon.com NONSGML v1.0//EN
CALSCALE:GREGORIAN
METHOD:PUBLISH
BEGIN:VEVENT
UID:69ea3d606af29
DTSTAMP:20260423T154016Z
DTSTART:20250402T220000Z
DTEND:20250428T060000Z
LOCATION:Hôtel de Ragueneau 71 rue du Loup 33000 Bordeaux
SUMMARY:Fotohaus Bordeaux 2025
DESCRIPTION:Photo : Le Beau Geste © Grégoire Eloy En 2022\,  suite aux 7 
 éditions précédentes de FOTOHAUS lors des Rencontres Internationales de 
 la Photographie d’Arles\,  FOTOHAUS s’est déployé en France en choisi
 ssant Bordeaux comme nouvelle domiciliation au printemps\,  essentiellement
  à l’Hôtel de Ragueneau en s’associant à des lieux bordelais sous[..
 ]\nhttps://www.9lives-magazine.com/events/fotohaus-bordeaux-2025/
URL:https://www.9lives-magazine.com/events/fotohaus-bordeaux-2025/
END:VEVENT
END:VCALENDAR