BEGIN:VCALENDAR
VERSION:2.0
PRODID:-//eventon.com NONSGML v1.0//EN
CALSCALE:GREGORIAN
METHOD:PUBLISH
BEGIN:VEVENT
UID:69e5fa261ffb6
DTSTAMP:20260420T100422Z
DTSTART:20250419T210000Z
DTEND:20250526T050000Z
LOCATION:Moulin Blanchard 11 Rue de Courboyer 61340 Perche-en-Nocé
SUMMARY:La Diagonale du Plein
DESCRIPTION:Photo : Saint-Eloy-Les-Mines © Photo Arno Brignon/Signatures T
 emps 1 de la saison au Moulin Blanchard L’agence Signatures présente « 
 La Diagonale du Plein »\,  une exposition collective née d’un projet au
  long cours porté par quinze photographes de l’agence autour des mutatio
 ns des petites villes françaises désertifiées\,  de leurs chutes[..]\nht
 tps://www.9lives-magazine.com/events/la-diagonale-du-plein/
URL:https://www.9lives-magazine.com/events/la-diagonale-du-plein/
END:VEVENT
END:VCALENDAR