BEGIN:VCALENDAR
VERSION:2.0
PRODID:-//eventon.com NONSGML v1.0//EN
CALSCALE:GREGORIAN
METHOD:PUBLISH
BEGIN:VEVENT
UID:69e5fa3a2d924
DTSTAMP:20260420T100442Z
DTSTART:20250419T210000Z
DTEND:20250526T050000Z
LOCATION:Moulin Blanchard 11 Rue de Courboyer 61340 Perche-en-Nocé
SUMMARY:Raphaël Helle
DESCRIPTION:Photo : © Photo Raphaël Helle/Signatures Temps 1 de la saison
  au Moulin Blanchard Raphaël Helle consacre son travail personnel au monde
  ouvrier. En 2014\,  il est lauréat de « La France vue d’ici » pour so
 n projet à cet univers. En décembre 2021\,  il rem-porte la grande comman
 de du[..]\nhttps://www.9lives-magazine.com/events/raphael-helle-trois-huit/
URL:https://www.9lives-magazine.com/events/raphael-helle-trois-huit/
END:VEVENT
END:VCALENDAR