BEGIN:VCALENDAR
VERSION:2.0
PRODID:-//eventon.com NONSGML v1.0//EN
CALSCALE:GREGORIAN
METHOD:PUBLISH
BEGIN:VEVENT
UID:69e79a67348fc
DTSTAMP:20260421T154023Z
DTSTART:20250531T210000Z
DTEND:20250615T050000Z
LOCATION:initial Labo 62\,  avenue Jean-Baptiste Clément 92100 Boulogne Billancourt
SUMMARY:Julie Fratoni
DESCRIPTION:Plutôt deux fois qu’une Julie Fratoni n’entreprend que des
  projets qui la passionnent. Elle tire son inspiration de son expérience e
 n tant que joueuse de tennis professionnelle\,  pour provoquer l’émotion
  des instants vécus sur les courts de tennis\,  autour du monde. Julie est
  une artiste visuelle qui aime sculpter les[..]\nhttps://www.9lives-magazin
 e.com/events/julie-fratoni-les-emotion-du-je/
URL:https://www.9lives-magazine.com/events/julie-fratoni-les-emotion-du-je/
END:VEVENT
END:VCALENDAR