BEGIN:VCALENDAR
VERSION:2.0
PRODID:-//eventon.com NONSGML v1.0//EN
CALSCALE:GREGORIAN
METHOD:PUBLISH
BEGIN:VEVENT
UID:69eba681f22f1
DTSTAMP:20260424T172105Z
DTSTART:20251205T210000Z
DTEND:20260518T060000Z
LOCATION:Jeu de Paume - Château de Tours 25\,  avenue André Malraux 37000 Tours
SUMMARY:Madeleine de Sinéty
DESCRIPTION:L’exposition est la première rétrospective consacrée à Ma
 deleine de Sinéty (1934-2011) &#8211; présentée au Château de Tours en 
 2025\,  puis à Paris en 2026 &#8211; dont l’œuvre photographique singul
 ière et encore peu connue\,  en couleurs et en noir et blanc\,  s’étend
  sur quatre décennies entre la France et les Etats-Unis.[..]\nhttps://www.
 9lives-magazine.com/events/madeleine-de-sinety/
URL:https://www.9lives-magazine.com/events/madeleine-de-sinety/
END:VEVENT
END:VCALENDAR