BEGIN:VCALENDAR
VERSION:2.0
PRODID:-//eventon.com NONSGML v1.0//EN
CALSCALE:GREGORIAN
METHOD:PUBLISH
BEGIN:VEVENT
UID:69eb973eba45f
DTSTAMP:20260424T161558Z
DTSTART:20250919T120000Z
DTEND:20251221T180000Z
LOCATION:hangar photo art center gallery 18\,  Place du Châtelain 1050 Brussels
SUMMARY:Charlotte Abramow
DESCRIPTION:Photo. MAURICE\,  Tristesse et rigolade\,  2018 © Charlotte Ab
 ramow « MAURICE\,  Tristesse et rigolade » raconte l’histoire d’un co
 mbat\,  celui d’un homme face à la maladie\,  et d’une renaissance\,  
 portée par l’amour d’une fille. Entre narration documentaire et conte 
 surréaliste\,  ce récit visuel et poétique résonne comme un hommage ét
 ernel[..]\nhttps://www.9lives-magazine.com/events/charlotte-abramow-maurice
 -tristesse-et-rigolade/
URL:https://www.9lives-magazine.com/events/charlotte-abramow-maurice-tristesse-et-rigolade/
END:VEVENT
END:VCALENDAR