BEGIN:VCALENDAR
VERSION:2.0
PRODID:-//eventon.com NONSGML v1.0//EN
CALSCALE:GREGORIAN
METHOD:PUBLISH
BEGIN:VEVENT
UID:69eb9746b8236
DTSTAMP:20260424T161606Z
DTSTART:20250919T120000Z
DTEND:20251221T180000Z
LOCATION:hangar photo art center gallery 18\,  Place du ChÃ¢telain 1050 Brussels
SUMMARY:Nick Brandt
DESCRIPTION:Photo. Kuda and Sky II\,  Zimbabwe 2020 Â© Nick Brandt The Day 
 May Break (2020-2024) est la derniÃ¨re sÃ©rie dâ€™images du photographe ang
 lais Nick Brandt. ComposÃ©e de quatre volets Ã  travers quatre continents â
 €“ chacun donnant lieu Ã  un livre â€“\,  cette Å“uvre monumentale explore 
 les rÃ©percussions du dÃ©rÃ¨glement climatique[..]\nhttps://www.9lives-maga
 zine.com/events/nick-brandt-the-day-may-break/
URL:https://www.9lives-magazine.com/events/nick-brandt-the-day-may-break/
END:VEVENT
END:VCALENDAR