BEGIN:VCALENDAR
VERSION:2.0
PRODID:-//eventon.com NONSGML v1.0//EN
CALSCALE:GREGORIAN
METHOD:PUBLISH
BEGIN:VEVENT
UID:69e8fead9979e
DTSTAMP:20260422T170029Z
DTSTART:20250707T110000Z
DTEND:20251006T105900Z
LOCATION:La Fisheye Gallery\,  dite Le Magasin de Jouets 19\,  rue Jouvène\,  13200 Arles
SUMMARY:Sous les paupières closes
DESCRIPTION:Cette année\,  la Fisheye Gallery a le plaisir de rouvrir les 
 portes de son espace arlésien du 7 juillet au 5 octobre 2025\,  avec une e
 xposition collective réunissant quatre artistes émergentes : Eloïse Laba
 rbe-Lafon\,  Anna Muller\,  Rose Mihman et Jinyong Lian. Leurs travaux expl
 orent des territoires sensibles et intimes\,  parfois[..]\nhttps://www.9liv
 es-magazine.com/events/sous-les-paupieres-closes/
URL:https://www.9lives-magazine.com/events/sous-les-paupieres-closes/
END:VEVENT
END:VCALENDAR