BEGIN:VCALENDAR
VERSION:2.0
PRODID:-//eventon.com NONSGML v1.0//EN
CALSCALE:GREGORIAN
METHOD:PUBLISH
BEGIN:VEVENT
UID:69ebbc0f02e33
DTSTAMP:20260424T185303Z
DTSTART:20251122T140000Z
DTEND:20260125T190000Z
LOCATION:La Chambre - espace d&#039;exposition et de formation à l&#039;image 4 place d'Austerlitz 67000 Strasbourg
SUMMARY:Boris Eldagsen
DESCRIPTION:© Boris Eldagsen\,  still from Ring of Fire AI generated video
 \,  2025 PART I Quelque chose manque et vous le savez à La Chambre PART II
  La sensation demandée n’est pas disponible à La Cryogénie Boris Eldag
 sen est un artiste et philosophe allemand vivant à Berlin\,  dont les trav
 aux récents[..]\nhttps://www.9lives-magazine.com/events/boris-eldagsen-han
 tologies-pour-les-debutant%c2%b7es/
URL:https://www.9lives-magazine.com/events/boris-eldagsen-hantologies-pour-les-debutant%c2%b7es/
END:VEVENT
END:VCALENDAR