BEGIN:VCALENDAR
VERSION:2.0
PRODID:-//eventon.com NONSGML v1.0//EN
CALSCALE:GREGORIAN
METHOD:PUBLISH
BEGIN:VEVENT
UID:69eb04de52e74
DTSTAMP:20260424T055126Z
DTSTART:20251123T210000Z
DTEND:20260223T050000Z
LOCATION:Domaine de Chaumont-sur-Loire Centre d'Art et de Nature Ferme du Château 41150 Chaumont-sur-Loire
SUMMARY:Chaumont-Photo-sur-Loire 2025
DESCRIPTION:Photo : Sky#27\,  2015\,  Archival pigment print\,  69\, 5 x 59
  cm\,  Edition 3 / 6 + 2AP © Santeri Tuori À l’heure des images instant
 anées et de leur flux continu\,  certains artistes choisissent la patience
 \,  l’attention\,  le détour. Ils pointent leur objectif vers ce qui ne 
 se donne pas d’emblée[..]\nhttps://www.9lives-magazine.com/events/chaumo
 nt-photo-sur-loire-2025/
URL:https://www.9lives-magazine.com/events/chaumont-photo-sur-loire-2025/
END:VEVENT
END:VCALENDAR