BEGIN:VCALENDAR
VERSION:2.0
PRODID:-//eventon.com NONSGML v1.0//EN
CALSCALE:GREGORIAN
METHOD:PUBLISH
BEGIN:VEVENT
UID:69ebbb410f332
DTSTAMP:20260424T184937Z
DTSTART:20251216T200000Z
DTEND:20260330T070000Z
LOCATION:BnF - Bibliothèque nationale de France Quai François Mauriac 75013 Paris
SUMMARY:La photographie à tout prix 2025
DESCRIPTION:Pour la cinquième année consécutive\,  la BnF présente une 
 sélection des tirages des lauréats de ces prix partenaires\,  dans une ex
 position destinée à s’inscrire comme un rendez-vous annuel des amateurs
  de photographie. L’occasion de s’immerger dans l’effervescence créa
 tive de la photographie d’aujourd’hui. À travers son soutien aux grand
 s prix photographiques[..]\nhttps://www.9lives-magazine.com/events/la-photo
 graphie-a-tout-prix-2025/
URL:https://www.9lives-magazine.com/events/la-photographie-a-tout-prix-2025/
END:VEVENT
END:VCALENDAR