BEGIN:VCALENDAR
VERSION:2.0
PRODID:-//eventon.com NONSGML v1.0//EN
CALSCALE:GREGORIAN
METHOD:PUBLISH
BEGIN:VEVENT
UID:69eba6d00836d
DTSTAMP:20260424T172224Z
DTSTART:20251229T010000Z
DTEND:20260118T060000Z
LOCATION:Galerie là ! (du collectif LE COMMUN DES MORTELS) 54 gd rue Paul Saint-Martin 32420 Simorre
SUMMARY:Olivier Pasquiers
DESCRIPTION:Photo : Sommet du Brévent\,  Chamonix-Mont-Blanc\,  2025 © Ol
 ivier Pasquiers Cette série d’images est le prolongement d’une recherc
 he entamée il y a deux ans à l’aide de ce dispositif atypique qu’est 
 la camera obscura numérique. Un dispositif hors du temps\,  une alliance e
 ntre l’outil des peintres utilisé à partir de[..]\nhttps://www.9lives-m
 agazine.com/events/olivier-pasquiers-paysages-hors-du-temps-2/
URL:https://www.9lives-magazine.com/events/olivier-pasquiers-paysages-hors-du-temps-2/
END:VEVENT
END:VCALENDAR