BEGIN:VCALENDAR
VERSION:2.0
PRODID:-//eventon.com NONSGML v1.0//EN
CALSCALE:GREGORIAN
METHOD:PUBLISH
BEGIN:VEVENT
UID:69eba6784f7ba
DTSTAMP:20260424T172056Z
DTSTART:20251201
DTEND:20251202
LOCATION:Galerie Eurazeo 66 rue Pierre Charron 75008 Paris
SUMMARY:Olivier Roller
DESCRIPTION:Que reste-t-il du pouvoir quand le temps a passé ? Des bustes 
 d’empereurs romains\,  exhumés de la terre ou de la mer\,  marqués par 
 les siècles et la main des hommes. Ces visages\,  jadis signes d’autorit
 é\,  nous parviennent fissurés\,  corrodés\,  parfois volontairement mut
 ilés lors de la chute de leur modèle.[..]\nhttps://www.9lives-magazine.co
 m/events/olivier-roller-le-pouvoir-a-lepreuve-du-temps/
URL:https://www.9lives-magazine.com/events/olivier-roller-le-pouvoir-a-lepreuve-du-temps/
END:VEVENT
END:VCALENDAR