BEGIN:VCALENDAR
VERSION:2.0
PRODID:-//eventon.com NONSGML v1.0//EN
CALSCALE:GREGORIAN
METHOD:PUBLISH
BEGIN:VEVENT
UID:69eb7602c60bd
DTSTAMP:20260424T135410Z
DTSTART:20260716T220000Z
DTEND:20260921T070000Z
LOCATION:La Maison Européenne de la Photographie 5/7 Rue de Fourcy 75004 Paris
SUMMARY:Martine Dawson
DESCRIPTION:Au Studio\nhttps://www.9lives-magazine.com/events/martine-dawso
 n/
URL:https://www.9lives-magazine.com/events/martine-dawson/
END:VEVENT
END:VCALENDAR