BEGIN:VCALENDAR
VERSION:2.0
PRODID:-//eventon.com NONSGML v1.0//EN
CALSCALE:GREGORIAN
METHOD:PUBLISH
BEGIN:VEVENT
UID:69ead0c2c2bc6
DTSTAMP:20260424T020906Z
DTSTART:20251128T210000Z
DTEND:20260329T060000Z
LOCATION:Galerie Leica 26 rue Boissy d'Anglas 75008 Paris
SUMMARY:Catherine Henriette
DESCRIPTION:La galerie Leica ouvre la saison hivernale avec une exposition 
 de Catherine Henriette réalisée au nord d&rsquo;Hokkaidō à Wakkanai au 
 Japon. Catherine Henriette aime les grands espaces. Remarquée pour son tra
 vail en Chine « Conte d&rsquo;hiver\,  Conte d&rsquo;été » récompens
 é par un prix de l&rsquo;Académie des Beaux-Arts en 2013\,  elle poursuit
  ses[..]\nhttps://www.9lives-magazine.com/events/catherine-henriette-le-bru
 it-de-la-neige/
URL:https://www.9lives-magazine.com/events/catherine-henriette-le-bruit-de-la-neige/
END:VEVENT
END:VCALENDAR