BEGIN:VCALENDAR
VERSION:2.0
PRODID:-//eventon.com NONSGML v1.0//EN
CALSCALE:GREGORIAN
METHOD:PUBLISH
BEGIN:VEVENT
UID:69ec18cc2d1eb
DTSTAMP:20260425T012844Z
DTSTART:20260317T130000Z
DTEND:20260522T183000Z
LOCATION:MAC - Maison des Arts de Créteil 1 Place Salvador Allende\,  94000 Créteil
SUMMARY:Les femmes photographes s'engagent
DESCRIPTION:Photo : © Sanja Marusic La Maison des arts de Créteil réunit
 \,  dans cette exposition\,  les travaux de quatre femmes photographes pré
 sentées lors de la Biennale PhotoClimat. Elles ont toutes en commun d’av
 oir collaboré avec des associations caritatives ou des fondations. Jennife
 r Dewavrin\,  Sanja Marusic\,  Juliette-Andréa Elie et Floriane de[..]\nht
 tps://www.9lives-magazine.com/events/les-femmes-photographes-sengagent/
URL:https://www.9lives-magazine.com/events/les-femmes-photographes-sengagent/
END:VEVENT
END:VCALENDAR