BEGIN:VCALENDAR
VERSION:2.0
PRODID:-//eventon.com NONSGML v1.0//EN
CALSCALE:GREGORIAN
METHOD:PUBLISH
BEGIN:VEVENT
UID:69ebbc4760d4d
DTSTAMP:20260424T185359Z
DTSTART:20251211T110000Z
DTEND:20260307T190000Z
LOCATION:La Galerie Rouge 3 Rue Du Pont Louis-Philippe 75004 Paris
SUMMARY:Gaspar Gasparian
DESCRIPTION:Photo : Começa o Dia\,  1943 © Gaspar Gasparian A l’occasi
 on de l’année du Brésil en France\,  la Galerie Rouge organise une expo
 sition personnelle du photographe brésilien Gaspar Gasparian (1899-1966). 
 Avec Thomas Farkas et Marcel Giró\,  il est un représentant éminent du c
 ourant moderniste brésilien d’après-guerre qui a poussé la[..]\nhttps:
 //www.9lives-magazine.com/events/gaspar-gasparian-le-modernisme-bresilien/
URL:https://www.9lives-magazine.com/events/gaspar-gasparian-le-modernisme-bresilien/
END:VEVENT
END:VCALENDAR