BEGIN:VCALENDAR
VERSION:2.0
PRODID:-//eventon.com NONSGML v1.0//EN
CALSCALE:GREGORIAN
METHOD:PUBLISH
BEGIN:VEVENT
UID:69e914eb5edac
DTSTAMP:20260422T183523Z
DTSTART:20251204T210000Z
DTEND:20260111T060000Z
LOCATION:Galerie Librairie Maupetit 142 La Canebière 13001 Marseille
SUMMARY:Karimeh Abbud (1893 - 1940)
DESCRIPTION:Karimeh Abbud naît le 13 novembre 1893 à Bethléem dans une f
 amille renommée pour sa haute instruction. Pour ses 17 ans\,  elle reçoit
  un appareil photographique qui ne la quittera plus. Elle immortalise famil
 le et amis\,  scènes du quotidien\,  cérémonies religieuses et paysages 
 de Palestine. Parfois elle se met elle-même[..]\nhttps://www.9lives-magazi
 ne.com/events/karimeh-abbud-1893-1940-images-de-palestine/
URL:https://www.9lives-magazine.com/events/karimeh-abbud-1893-1940-images-de-palestine/
END:VEVENT
END:VCALENDAR