BEGIN:VCALENDAR
VERSION:2.0
PRODID:-//eventon.com NONSGML v1.0//EN
CALSCALE:GREGORIAN
METHOD:PUBLISH
BEGIN:VEVENT
UID:69eba6fe3f36f
DTSTAMP:20260424T172310Z
DTSTART:20251202T010000Z
DTEND:20260126T053000Z
LOCATION:Hôtel de Ville de Paris 5 rue de Lobau 75004 Paris
SUMMARY:Le Paris de Jean Claude Gautrand
DESCRIPTION:La Mairie de Paris présente sur les grilles de l’Hôtel de V
 ille\,  du 1er décembre 2025 au 25 janvier 2026\,  une sélection d’imag
 es glanées au gré de ses balades photographiques depuis le début des ann
 ées 60\,  qui témoignent de son attachement à la Ville Lumière. Paris e
 st au cœur de[..]\nhttps://www.9lives-magazine.com/events/le-paris-de-jean
 -claude-gautrand/
URL:https://www.9lives-magazine.com/events/le-paris-de-jean-claude-gautrand/
END:VEVENT
END:VCALENDAR