BEGIN:VCALENDAR
VERSION:2.0
PRODID:-//eventon.com NONSGML v1.0//EN
CALSCALE:GREGORIAN
METHOD:PUBLISH
BEGIN:VEVENT
UID:69eba65f69bbc
DTSTAMP:20260424T172031Z
DTSTART:20251210T220000Z
DTEND:20260131T050000Z
LOCATION:Conservatoire national des Arts et Métiers 292 rue Saint-Martin\,  75003 Paris
SUMMARY:Grandir à Mayotte après Chido
DESCRIPTION:Photo : Une fillette remplit des récipients d&rsquo;eau dans l
 a ville de Koungou\,  sur le territoire français de Mayotte\,  dans l&rsqu
 o;océan Indien\,  le 27 décembre 2024. Le cyclone le plus dévastateur qu
 i ait frappé Mayotte depuis 90 ans a causé des dégâts colossaux le 14 d
 écembre dans le département le[..]\nhttps://www.9lives-magazine.com/event
 s/grandir-a-mayotte-apres-chido/
URL:https://www.9lives-magazine.com/events/grandir-a-mayotte-apres-chido/
END:VEVENT
END:VCALENDAR