BEGIN:VCALENDAR
VERSION:2.0
PRODID:-//eventon.com NONSGML v1.0//EN
CALSCALE:GREGORIAN
METHOD:PUBLISH
BEGIN:VEVENT
UID:69eba6b93faf6
DTSTAMP:20260424T172201Z
DTSTART:20251212T210000Z
DTEND:20260310T050000Z
LOCATION:Le Kiosque Espace d’exposition dédié à la photographie Esplanade Simone Veil - Rive droite du port - 56000 Vannes
SUMMARY:Peter Knapp
DESCRIPTION:Photo : Courrèges\,  1965 © Peter Knapp / galerie baudoin leb
 on Dans le cadre de la programmation hivernale du Kiosque\,  la Ville de Va
 nnes présente une exposition consacrée à Peter Knapp\,  artiste majeur e
 t créateur inclassable. Photographe\,  peintre\,  directeur artistique\,  
 plasticien et cinéaste\,  l’artiste suisse s’est imposé comme une fig
 ure[..]\nhttps://www.9lives-magazine.com/events/peter-knapp-aux-quatre-coin
 s-du-temps/
URL:https://www.9lives-magazine.com/events/peter-knapp-aux-quatre-coins-du-temps/
END:VEVENT
END:VCALENDAR