BEGIN:VCALENDAR
VERSION:2.0
PRODID:-//eventon.com NONSGML v1.0//EN
CALSCALE:GREGORIAN
METHOD:PUBLISH
BEGIN:VEVENT
UID:69eb9786ac5bc
DTSTAMP:20260424T161710Z
DTSTART:20251107T120000Z
DTEND:20251221T180000Z
LOCATION:hangar photo art center gallery 18\,  Place du Châtelain 1050 Brussels
SUMMARY:Antoine De Winter
DESCRIPTION:All the places and the places between explore l’apparition ph
 otographique comme une persistance rétinienne du soleil\,  un écho qui se
  transforme en murmure\,  une mémoire qui se brise. Cette série révèle 
 le lieu tout en le fragmentant\,  permettant à la mémoire de se fissurer 
 et de se recomposer selon des[..]\nhttps://www.9lives-magazine.com/events/a
 ntoine-de-winter-all-the-places-and-the-places-between/
URL:https://www.9lives-magazine.com/events/antoine-de-winter-all-the-places-and-the-places-between/
END:VEVENT
END:VCALENDAR