BEGIN:VCALENDAR
VERSION:2.0
PRODID:-//eventon.com NONSGML v1.0//EN
CALSCALE:GREGORIAN
METHOD:PUBLISH
BEGIN:VEVENT
UID:69eb9f0fdef89
DTSTAMP:20260424T164919Z
DTSTART:20260514T010000Z
DTEND:20260726T060000Z
LOCATION:Galerie SIT DOWN 4\,  rue Sainte Anastase 75003 Paris
SUMMARY:Géraldine Lay
DESCRIPTION:Série Chêne-Pointu\,  Clichy-sous-Bois\,  Le chêne-pointu\, 
  2021 Tirage pigmentaire sur papier Fine Art © Géraldine Lay courtesy gal
 erie Sit Down Fidèle à son approche de promeneuse attentive\,  guidée pa
 r la lumière et par une curiosité patiente pour les autres\,  la photogra
 phe Géraldine Lay restitue dans cette exposition une forme de contemplatio
 n[..]\nhttps://www.9lives-magazine.com/events/geraldine-lay-detours/
URL:https://www.9lives-magazine.com/events/geraldine-lay-detours/
END:VEVENT
END:VCALENDAR