BEGIN:VCALENDAR
VERSION:2.0
PRODID:-//eventon.com NONSGML v1.0//EN
CALSCALE:GREGORIAN
METHOD:PUBLISH
BEGIN:VEVENT
UID:69ec1b1be01ed
DTSTAMP:20260425T013835Z
DTSTART:20260411T100000Z
DTEND:20261011T183000Z
LOCATION:Espace Hôtel de Lagoy 11 Bd Marceau\,  13210 Saint-Rémy-de-Provence
SUMMARY:David Lawrence
DESCRIPTION:De sa plume particulièrement évocatrice\,  Lawrence choisit d
 e rendre hommage à Freddie Mercury à travers le témoignage de deux amis 
 d’enfance\,  Ibrahim et Mustapha\,  rencontrés à Zanzibar et disparus l
 ors de la révolution de 1964. Ce fil conducteur de l&rsquo;exposition invi
 te chaque visiteur à découvrir autrement Freddie Mercury : de[..]\nhttps:
 //www.9lives-magazine.com/events/david-lawrence-freddie-mercury-ne-dis-jama
 is-adieu/
URL:https://www.9lives-magazine.com/events/david-lawrence-freddie-mercury-ne-dis-jamais-adieu/
END:VEVENT
END:VCALENDAR