BEGIN:VCALENDAR
VERSION:2.0
PRODID:-//eventon.com NONSGML v1.0//EN
CALSCALE:GREGORIAN
METHOD:PUBLISH
BEGIN:VEVENT
UID:69e53eb370a8f
DTSTAMP:20260419T204435Z
DTSTART:20260606T200000Z
DTEND:20260720T060000Z
LOCATION:Parc municipal des Mesnuls Grande Rue 78490 Les Mesnuls
SUMMARY:Mesnographies #6
DESCRIPTION:© Lucie Sassiat Toute l&rsquo;équipe des Mesnographies est he
 ureuse de vous présenter la programmation de l&rsquo;édition #6 qui aura 
 lieu du 06 juin au 19 juillet 2026\,  dans le grand parc des Mesnuls\,  13 
 Grande rue 78490 Les Mesnuls PROGRAMMATION GÉNÉRALE. Joan Alvado &#8211; 
 Espagne Miia Autio &#8211; Finlande Vic[..]\nhttps://www.9lives-magazine.co
 m/events/mesnographies-6/
URL:https://www.9lives-magazine.com/events/mesnographies-6/
END:VEVENT
END:VCALENDAR