BEGIN:VCALENDAR
VERSION:2.0
PRODID:-//eventon.com NONSGML v1.0//EN
CALSCALE:GREGORIAN
METHOD:PUBLISH
BEGIN:VEVENT
UID:69eb5e9a3e772
DTSTAMP:20260424T121418Z
DTSTART:20260127T100000Z
DTEND:20260507T190000Z
LOCATION:Spéos Gallery 8 rue Jules Vallès 75011 Paris
SUMMARY:Penelope Thomaidi
DESCRIPTION:L’exposition nous invite à un voyage au-delà des représent
 ations stéréotypées de la Grèce en mettant en dialogue deux projets vis
 uellement distincts\,  reliés par le fil conducteur de l’écologie. Osci
 llant entre journalisme lent\,  poésie et préoccupations environnementale
 s\,  les images documentent la manière dont l’urgence climatique s’ins
 crit dans le paysage grec et[..]\nhttps://www.9lives-magazine.com/events/pe
 nelope-thomaidi-nouvelle-realite-regard-sur-le-paysage-grec-a-travers-le-pr
 isme-du-changement-climatique/
URL:https://www.9lives-magazine.com/events/penelope-thomaidi-nouvelle-realite-regard-sur-le-paysage-grec-a-travers-le-prisme-du-changement-climatique/
END:VEVENT
END:VCALENDAR