BEGIN:VCALENDAR
VERSION:2.0
PRODID:-//eventon.com NONSGML v1.0//EN
CALSCALE:GREGORIAN
METHOD:PUBLISH
BEGIN:VEVENT
UID:69ec18d54fae2
DTSTAMP:20260425T012853Z
DTSTART:20260207T210000Z
DTEND:20260518T050000Z
LOCATION:Le Musée de la Photographie Centre d´art contemporain de la Fédération Wallonie-Bruxelles 11 Avenue Paul Pastur\,  6032 Mont-sur-Marchienne\,  Belgique
SUMMARY:Gregory Crewdson
DESCRIPTION:Photo : The Mattress (Cathedral of the Pines) – 2012-2014 –
  Digital pigment print – 106 x 138\, 5 cm – Courtesy Gregory Crewdson\,
   Galerie Templon Gregory Crewdson a dressé depuis une trentaine d’anne
 ́es un portrait de l’Amérique moyenne\,  une Amérique aux yeux éca
 rquillés vers les lumières d’un rêve en épuisement.[..]\nhttps://
 www.9lives-magazine.com/events/gregory-crewdson-eveningside-2/
URL:https://www.9lives-magazine.com/events/gregory-crewdson-eveningside-2/
END:VEVENT
END:VCALENDAR